BEGIN:VCALENDAR
VERSION:2.0
PRODID:-//Surfrider Foundation | Charleston Chapter - ECPv5.2.1//NONSGML v1.0//EN
CALSCALE:GREGORIAN
METHOD:PUBLISH
X-WR-CALNAME:Surfrider Foundation | Charleston Chapter
X-ORIGINAL-URL:https://charleston.surfrider.org
X-WR-CALDESC:Events for Surfrider Foundation | Charleston Chapter
BEGIN:VTIMEZONE
TZID:America/New_York
BEGIN:DAYLIGHT
TZOFFSETFROM:-0500
TZOFFSETTO:-0400
TZNAME:EDT
DTSTART:20200308T070000
END:DAYLIGHT
BEGIN:STANDARD
TZOFFSETFROM:-0400
TZOFFSETTO:-0500
TZNAME:EST
DTSTART:20201101T060000
END:STANDARD
END:VTIMEZONE
BEGIN:VEVENT
DTSTART;TZID=America/New_York:20200917T190000
DTEND;TZID=America/New_York:20200917T200000
DTSTAMP:20210513T093153
CREATED:20200914T230737Z
LAST-MODIFIED:20200914T231404Z
UID:2416-1600369200-1600372800@charleston.surfrider.org
SUMMARY:James Island: Take Action For Climate Change
DESCRIPTION:As we speak\, people like you and I are trying to reach out to local community leaders to step up and take ACTION on climate change by adopting the Climate Emergency Declaration Resolution. This resolution is a public recognition of the current and coming challenge of the climate crisis and a resolution to act on it. It acknowledges that we cannot continue with “business as usual\,” but have to shift into problem-solving mode and actively adopt climate-responsible practices. \nWe need your HELP- especially if you live in James Island\, SC or have friends/family members that do- to urge the Town of James Island to vote YES to the Climate Emergency Mobilization Resolution this Thursday\, Sept 17th at 7PM during the James Island virtual Town Meeting. \nDetails on how to take action:\n\n\n\n\n\n\n\n\n\nReach out to the James Island officials below and tell them you’re excited to see James Island leading on climate action! This will put JI on the climate action map — literally — and serve as an inspiration for other local municipalities to follow suit. You can focus on the good this will ultimately do to help mitigate future flooding\, sea level rise\, and hurricane damage\, and the fact that it will demonstrate JI’s clear leadership on a serious issue that impacts us both locally and globally.\n\n\nBill Woolsey (Mayor)- bwoolsey@jamesislandsc.us\nGary Milliken– garrettmilliken@jamesislandsc.us\nDaniel C. Boles– dboles@jamesislandsc.us\nDr. Cynthia Mignano– cmignano@jamesislandsc.us\nDarren “Troy” Mullinax– darrentroymullinax@jamesislandsc.us\n\n\nIf you live on James Island:\n\n\nSign up to provide comments during the virtual town meeting. You will be limited to three (3) minutes and must sign in to speak prior to the meeting by noon on Thursday\, September 17th by emailing your name and contact information to info@jamesislandsc.us. You may also send in your comments ahead of the meeting by emailing to info@jamesislandsc.us\,\n\n\nClick here to view the meeting agenda and scroll down to page 48 to view resolution\n\nBelow is the zoom information to tune into the Town Hall meeting \n\nThis Town Council meeting will be live-streamed on the Town’s YouTube channel\, link found at: http://www.iamesislandsc.us/videos-and-meeting-archive\nPlease click the link below to join the webinar: https://us02web.zoom.us/j/81946236457?pwd=T0xjbnduSkhTRW8yK2tIYXdDNkdZZz09\n\nPasscode: 641322 Or iPhone one-tap : US: +19292056099\,\,81946236457#\,\,\,\,\,\,0#\,\,641322# or +13017158592\,\,81946236457#\,\,\,\,\,\,0#\,\,641322#\nOr Telephone:\nDial(for higher quality\, dial a number based on your current location): US: +1 929 205 6099 or +1 301 715 8592 or +1 312 626 6799 or +1 669 900 6833 or +1 253 215 8782 or +1 346 248 7799 or 888 788 0099 (Toll Free) or 877 853 5247 (Toll Free)\nWebinar ID: 819 4623 6457\nPasscode: 641322\n\n\n\nIf you have any questions or concerns\, please reach out. Spread the word to others and we hope to “see” some of you at the virtual town hall meeting this Thursday evening!\n\n\n\n\n\n\n\n\n\n\n\n\n\n\n\nProtect What You Love\, \nCharleston Surfrider Team
URL:https://charleston.surfrider.org/event/james-island-take-action-for-climate-change/
CATEGORIES:Advocacy
END:VEVENT
END:VCALENDAR